Felt | Verdi |
AlreadyApplied | True |
Aperture | 11.0 |
ApertureValue | 11.0 |
ApproximateFocusDistance | 3.19 |
AutoLateralCA | 0 |
BitsPerSample | 8 |
Blacks2012 | 0 |
BlueHue | 0 |
BlueSaturation | 0 |
CameraProfile | Adobe Standard |
CircleOfConfusion | 0.031 mm |
Clarity2012 | 0 |
ColorComponents | 3 |
ColorMode | RGB |
ColorNoiseReduction | 25 |
ColorNoiseReductionDetail | 50 |
ColorSpace | Uncalibrated |
ColorTemperature | 6300 |
Contrast2012 | +28 |
ConvertToGrayscale | False |
CreateDate | 2013:06:06 18:47:56 |
CreatorTool | Adobe Photoshop CS6 (Macintosh) |
CustomRendered | Normal |
DateCreated (1) | 2013:06:06 |
DateCreated | 2013:06:06 18:47:56.067 |
DateTimeOriginal | 2013:06:06 18:47:56 |
DefringeGreenAmount | 0 |
DefringeGreenHueHi | 60 |
DefringeGreenHueLo | 40 |
DefringePurpleAmount | 0 |
DefringePurpleHueHi | 70 |
DefringePurpleHueLo | 30 |
DOF | inf (1.17 m - inf) |
ExifImageHeight | 1000 |
ExifImageWidth | 1500 |
Exposure2012 | 0.00 |
ExposureCompensation | 0 |
ExposureMode | Manual |
ExposureProgram | Manual |
ExposureTime | 1/125 |
Firmware | 2.1.2 |
Flash | Off, Did not fire |
FlashCompensation | 0 |
FNumber | 11.0 |
FocalLength | 25.0 mm |
FocalLength35efl | 25.0 mm (35 mm equivalent: 24.4 mm) |
Format | image/jpeg |
FOV | 72.8 deg |
GrainAmount | 0 |
GreenHue | 0 |
GreenSaturation | 0 |
HasCrop | False |
HasSettings | True |
Highlights2012 | -50 |
HueAdjustmentAqua | 0 |
HueAdjustmentBlue | 0 |
HueAdjustmentGreen | 0 |
HueAdjustmentMagenta | 0 |
HueAdjustmentOrange | 0 |
HueAdjustmentPurple | 0 |
HueAdjustmentRed | 0 |
HueAdjustmentYellow | 0 |
HyperfocalDistance | 1.85 m |
ICCProfileName | Adobe RGB (1998) |
ImageHeight | 1000 |
ImageNumber | 0 |
ImageSize | 1500x1000 |
ImageWidth | 1500 |
ISO | 100 |
Lens | EF24-70mm f/2.8L USM |
LensID (1) | 230 |
LensID | Canon EF 24-70mm f/2.8L USM |
LensInfo | 24-70mm f/? |
LensManualDistortionAmount | 0 |
LensModel | EF24-70mm f/2.8L USM |
LensProfileEnable | 0 |
LensProfileSetup | LensDefaults |
LightValue | 13.9 |
LuminanceAdjustmentAqua | 0 |
LuminanceAdjustmentBlue | 0 |
LuminanceAdjustmentGreen | 0 |
LuminanceAdjustmentMagenta | 0 |
LuminanceAdjustmentOrange | 0 |
LuminanceAdjustmentPurple | 0 |
LuminanceAdjustmentRed | 0 |
LuminanceAdjustmentYellow | 0 |
LuminanceSmoothing | 0 |
Make | Canon |
MaxApertureValue | 2.8 |
Megapixels | 1.5 |
MeteringMode | Center-weighted average |
Model | Canon EOS 5D Mark II |
ModifyDate (1) | 2013:06:11 19:44:19+02:00 |
ModifyDate | 2013:06:11 19:44:19 |
Orientation | Horizontal (normal) |
PaintCorrectionActive | true |
PaintCorrectionAmount | 1.000000 |
PaintCorrectionBrightness | 0.000000 |
PaintCorrectionClarity | 0.000000 |
PaintCorrectionClarity2012 | 0.000000 |
PaintCorrectionContrast | 0.000000 |
PaintCorrectionContrast2012 | 0.000000 |
PaintCorrectionDefringe | 0.000000 |
PaintCorrectionExposure | 0.000000 |
PaintCorrectionExposure2012 | 0.062500 |
PaintCorrectionHighlights2012 | 0.000000 |
PaintCorrectionHue | 0.000000 |
PaintCorrectionLuminanceNoise | 0.000000 |
PaintCorrectionMaskCenterWeight | 0.083679 |
PaintCorrectionMaskFlow | 0.888889 |
PaintCorrectionMaskRadius (3) | 0.047597 |
PaintCorrectionMaskRadius (7) | 0.026084 |
PaintCorrectionMaskRadius | 0.069111 |
PaintCorrectionMaskValue | 0.820000 |
PaintCorrectionMaskWhat | Mask/Paint |
PaintCorrectionMoire | 0.000000 |
PaintCorrectionSaturation | 0.000000 |
PaintCorrectionShadows2012 | 0.000000 |
PaintCorrectionSharpness | 0.000000 |
PaintCorrectionTemperature | 0.000000 |
PaintCorrectionTint | 0.000000 |
PaintCorrectionWhat | Correction |
ParametricDarks | 0 |
ParametricHighlights | 0 |
ParametricHighlightSplit | 75 |
ParametricLights | 0 |
ParametricMidtoneSplit | 50 |
ParametricShadows | 0 |
ParametricShadowSplit | 25 |
PerspectiveHorizontal | 0 |
PerspectiveRotate | 0.0 |
PerspectiveScale | 100 |
PerspectiveVertical | 0 |
PostCropVignetteAmount | 0 |
ProcessVersion | 6.7 |
ProfileDescription | Adobe RGB (1998) |
Rating | 0 |
RawFileName | IMG_0299.CR2 |
RedHue | 0 |
RedSaturation | 0 |
Saturation | 0 |
SaturationAdjustmentAqua | 0 |
SaturationAdjustmentBlue | 0 |
SaturationAdjustmentGreen | 0 |
SaturationAdjustmentMagenta | 0 |
SaturationAdjustmentOrange | 0 |
SaturationAdjustmentPurple | 0 |
SaturationAdjustmentRed | 0 |
SaturationAdjustmentYellow | 0 |
ScaleFactor35efl | 1.0 |
SceneCaptureType | Standard |
SerialNumber | 1030604761 |
Shadows2012 | +66 |
ShadowTint | 0 |
SharpenDetail | 25 |
SharpenEdgeMasking | 0 |
SharpenRadius | +1.0 |
Sharpness | 51 |
ShutterSpeed | 1/125 |
ShutterSpeedValue | 1/125 |
Software | Adobe Photoshop CS6 (Macintosh) |
SplitToningBalance | 0 |
SplitToningHighlightHue | 0 |
SplitToningHighlightSaturation | 0 |
SplitToningShadowHue | 0 |
SplitToningShadowSaturation | 0 |
Tint | -1 |
ToneCurveName2012 | Linear |
ToneCurvePV2012 | 0, 0, 255, 255 |
ToneCurvePV2012Blue | 0, 0, 255, 255 |
ToneCurvePV2012Green | 0, 0, 255, 255 |
ToneCurvePV2012Red | 0, 0, 255, 255 |
URL_List | |
Version | 7.3 |
Vibrance | 0 |
VignetteAmount | 0 |
WhiteBalance (1) | As Shot |
WhiteBalance | Manual |
Whites2012 | 0 |