Felt | Verdi |
AlreadyApplied | True |
Aperture | 5.6 |
ApertureValue | 5.6 |
ApproximateFocusDistance | 0.5 |
Artist | Owe Rathe |
BitsPerSample | 8 |
BlueHue | 0 |
BlueSaturation | 0 |
Brightness | 0 |
By-line | Owe Rathe |
CameraProfile | Adobe Standard |
CFAPattern | [Red,Green][Green,Blue] |
ChromaticAberrationB | 0 |
ChromaticAberrationR | 0 |
CircleOfConfusion | 0.020 mm |
Clarity | +44 |
ColorComponents | 3 |
ColorMode | RGB |
ColorNoiseReduction | 37 |
ColorNoiseReductionDetail | 14 |
ColorSpace | Uncalibrated |
ColorTemperature | 6050 |
Contrast (1) | +77 |
Contrast | Normal |
ConvertToGrayscale | False |
Copyright | Owe Rathe |
CopyrightNotice | Owe Rathe |
CreateDate (1) | 2011:10:02 13:54:53.80 |
CreateDate | 2011:10:02 13:54:53 |
Creator | Owe Rathe |
CreatorTool | Ver.1.01 |
CropAngle | 0 |
CropBottom | 0.991055 |
CropConstrainToWarp | 1 |
CropLeft | 0.06872 |
CropRight | 0.706161 |
CropTop | 0.091234 |
CustomRendered | Normal |
DateCreated (1) | 2011:10:02 |
DateCreated | 2011:10:02 13:54:53.008 |
DateTimeOriginal | 2011:10:02 13:54:53 |
Defringe | 0 |
DigitalZoomRatio | 1 |
DOF | 0.004 m (0.498 - 0.502 m) |
ExifImageHeight | 2937 |
ExifImageWidth | 3141 |
Exposure | +1.05 |
ExposureCompensation | 0 |
ExposureMode | Auto |
ExposureProgram | Program AE |
ExposureTime | 1/100 |
FillLight | 48 |
Flash | Off, Did not fire |
FNumber | 5.6 |
FocalLength | 105.0 mm |
FocalLength35efl | 105.0 mm (35 mm equivalent: 157.0 mm) |
FocalLengthIn35mmFormat | 157 mm |
Format | image/jpeg |
FOV | 13.1 deg |
GainControl | High gain up |
GrainAmount | 0 |
GreenHue | 0 |
GreenSaturation | 0 |
HasCrop | True |
HasSettings | True |
HighlightRecovery | 0 |
HueAdjustmentAqua | 0 |
HueAdjustmentBlue | 0 |
HueAdjustmentGreen | 0 |
HueAdjustmentMagenta | 0 |
HueAdjustmentOrange | 0 |
HueAdjustmentPurple | 0 |
HueAdjustmentRed | 0 |
HueAdjustmentYellow | 0 |
HyperfocalDistance | 97.97 m |
ICCProfileName | Adobe RGB (1998) |
ImageHeight | 2937 |
ImageNumber | 1536 |
ImageSize | 3141x2937 |
ImageWidth | 3141 |
ISO | 5000 |
Lens | 18.0-105.0 mm f/3.5-5.6 |
LensID (1) | 158 |
LensID | AF-S DX VR Zoom-Nikkor 18-105mm f/3.5-5.6G ED |
LensInfo | 18-105mm f/3.5-5.6 |
LensManualDistortionAmount | 0 |
LensModel | 18.0-105.0 mm f/3.5-5.6 |
LensProfileEnable | 0 |
LensProfileSetup | LensDefaults |
LightSource | Unknown |
LightValue | 6.0 |
LuminanceAdjustmentAqua | 0 |
LuminanceAdjustmentBlue | 0 |
LuminanceAdjustmentGreen | 0 |
LuminanceAdjustmentMagenta | 0 |
LuminanceAdjustmentOrange | 0 |
LuminanceAdjustmentPurple | 0 |
LuminanceAdjustmentRed | 0 |
LuminanceAdjustmentYellow | 0 |
LuminanceNoiseReductionContrast | 0 |
LuminanceNoiseReductionDetail | 64 |
LuminanceSmoothing | 80 |
Make | NIKON CORPORATION |
MaxApertureValue | 5.7 |
Megapixels | 9.2 |
MeteringMode | Multi-segment |
Model | NIKON D7000 |
ModifyDate (1) | 2011:10:02 16:49:43+02:00 |
ModifyDate | 2011:10:02 16:49:43 |
Orientation | Horizontal (normal) |
ParametricDarks | 0 |
ParametricHighlights | 0 |
ParametricHighlightSplit | 75 |
ParametricLights | 0 |
ParametricMidtoneSplit | 50 |
ParametricShadows | 0 |
ParametricShadowSplit | 25 |
PerspectiveHorizontal | 0 |
PerspectiveRotate | 0.0 |
PerspectiveScale | 100 |
PerspectiveVertical | 0 |
PostCropVignetteAmount | -30 |
PostCropVignetteFeather | 50 |
PostCropVignetteHighlightContrast | 0 |
PostCropVignetteMidpoint | 73 |
PostCropVignetteRoundness | +78 |
PostCropVignetteStyle | 1 |
ProcessVersion | 5.7 |
ProfileDescription | Adobe RGB (1998) |
Rating | 0 |
RawFileName | DSC_1446.NEF |
RedHue | 0 |
RedSaturation | 0 |
Rights | Owe Rathe |
Saturation (1) | 0 |
Saturation | Normal |
SaturationAdjustmentAqua | 0 |
SaturationAdjustmentBlue | 0 |
SaturationAdjustmentGreen | 0 |
SaturationAdjustmentMagenta | 0 |
SaturationAdjustmentOrange | 0 |
SaturationAdjustmentPurple | 0 |
SaturationAdjustmentRed | 0 |
SaturationAdjustmentYellow | 0 |
ScaleFactor35efl | 1.5 |
SceneCaptureType | Standard |
SceneType | Directly photographed |
SensingMethod | One-chip color area |
SensitivityType | Recommended Exposure Index |
SerialNumber | 6152892 |
Shadows | 0 |
ShadowTint | 0 |
SharpenDetail | 0 |
SharpenEdgeMasking | 0 |
SharpenRadius | +1.0 |
Sharpness (1) | 25 |
Sharpness | Normal |
ShutterSpeed | 1/100 |
ShutterSpeedValue | 1/100 |
Software | Adobe Photoshop CS5.1 Windows |
SplitToningBalance | 0 |
SplitToningHighlightHue | 0 |
SplitToningHighlightSaturation | 0 |
SplitToningShadowHue | 0 |
SplitToningShadowSaturation | 0 |
SubjectDistance | 0.5 m |
SubjectDistanceRange | Unknown |
Tint | +28 |
ToneCurve | 0, 0, 32, 22, 64, 56, 128, 128, 192, 196, 255, 255 |
ToneCurveName | Medium Contrast |
URL_List | |
Version | 6.5 |
Vibrance | 0 |
VignetteAmount | 0 |
WhiteBalance (1) | As Shot |
WhiteBalance | Auto |