Felt | Verdi |
AlreadyApplied | True |
Aperture | 14.0 |
ApertureValue | 14.0 |
BitsPerSample (1) | 8 8 8 |
BitsPerSample | 8 |
BlueHue | 0 |
BlueSaturation | 0 |
Brightness | +50 |
CameraProfile | ACR 3.3 |
Caption-Abstract | OLYMPUS DIGITAL CAMERA |
CFAPattern | [Red,Green][Green,Blue] |
ChromaticAberrationB | 0 |
ChromaticAberrationR | 0 |
ColorComponents | 3 |
ColorMode | RGB |
ColorNoiseReduction | 25 |
ColorSpace | sRGB |
ColorTemperature | 11750 |
Contrast (1) | +42 |
Contrast | Normal |
ConvertToGrayscale | False |
CopyrightFlag | False |
CreateDate (1) | 2009:10:10 22:23:39+02:00 |
CreateDate | 2009:10:06 14:40:56 |
CreatorTool | Adobe Photoshop CS5 Macintosh |
CustomRendered | Normal |
DateCreated (1) | 2009:10:06 |
DateCreated | 2009:10:06 14:40:56 |
DateTimeOriginal | 2009:10:06 14:40:56 |
Description | OLYMPUS DIGITAL CAMERA |
DigitalZoomRatio | 1 |
ExifImageHeight | 800 |
ExifImageWidth | 547 |
Exposure | 0.00 |
ExposureCompensation | 0 |
ExposureMode | Manual |
ExposureProgram | Manual |
ExposureTime | 1/8 |
FillLight | 15 |
Flash | On, Did not fire |
FlashCompensation | 0 |
FNumber | 14.0 |
FocalLength | 11.0 mm |
FocalLength35efl | 11.0 mm |
Format | image/jpeg |
GainControl | None |
GreenHue | 0 |
GreenSaturation | 0 |
HasCrop | False |
HasSettings | True |
HighlightRecovery | 18 |
HueAdjustmentAqua | 0 |
HueAdjustmentBlue | 0 |
HueAdjustmentGreen | 0 |
HueAdjustmentMagenta | 0 |
HueAdjustmentOrange | 0 |
HueAdjustmentPurple | 0 |
HueAdjustmentRed | 0 |
HueAdjustmentYellow | +28 |
ICCProfileName | sRGB IEC61966-2.1 |
ImageDescription | OLYMPUS DIGITAL CAMERA |
ImageHeight (1) | 4000 |
ImageHeight | 800 |
ImageSize | 547x800 |
ImageWidth (1) | 2737 |
ImageWidth | 547 |
ISO | 100 |
Lens | 11.0-22.0 mm f/2.8-3.5 |
LensInfo | 11-22mm f/2.8-3.5 |
LensSerialNumber | 070205078 |
LightSource | Other |
LightValue | 10.6 |
LuminanceAdjustmentAqua | 0 |
LuminanceAdjustmentBlue | 0 |
LuminanceAdjustmentGreen | 0 |
LuminanceAdjustmentMagenta | 0 |
LuminanceAdjustmentOrange | 0 |
LuminanceAdjustmentPurple | 0 |
LuminanceAdjustmentRed | 0 |
LuminanceAdjustmentYellow | 0 |
LuminanceSmoothing | 0 |
Make | OLYMPUS IMAGING CORP. |
Marked | False |
MaxApertureValue | 2.8 |
Megapixels | 0.438 |
MeteringMode | Center-weighted average |
Model | E-500 |
ModifyDate (1) | 2010:12:12 23:56:27+01:00 |
ModifyDate | 2010:12:12 23:56:27 |
Orientation | Horizontal (normal) |
ParametricDarks | 0 |
ParametricHighlights | 0 |
ParametricHighlightSplit | 75 |
ParametricLights | 0 |
ParametricMidtoneSplit | 50 |
ParametricShadows | 0 |
ParametricShadowSplit | 25 |
PhotometricInterpretation | RGB |
PlanarConfiguration | Chunky |
ProfileDescription | sRGB IEC61966-2.1 |
Rating | 0 |
RawFileName | PA067554.ORF |
RedHue | 0 |
RedSaturation | 0 |
Saturation (1) | +8 |
Saturation | High |
SaturationAdjustmentAqua | 0 |
SaturationAdjustmentBlue | +34 |
SaturationAdjustmentGreen | +14 |
SaturationAdjustmentMagenta | 0 |
SaturationAdjustmentOrange | 0 |
SaturationAdjustmentPurple | 0 |
SaturationAdjustmentRed | 0 |
SaturationAdjustmentYellow | 0 |
SceneCaptureType | Standard |
SerialNumber | A71505000 |
Shadows | 15 |
ShadowTint | 0 |
Sharpness (1) | 57 |
Sharpness | Normal |
ShutterSpeed | 1/8 |
ShutterSpeedValue | 1/8 |
SidecarForExtension | ORF |
Software | Adobe Photoshop CS5 Macintosh |
SplitToningBalance | 0 |
SplitToningHighlightHue | 0 |
SplitToningHighlightSaturation | 0 |
SplitToningShadowHue | 0 |
SplitToningShadowSaturation | 0 |
Tint | +9 |
ToneCurve | 0, 0, 32, 16, 64, 50, 128, 128, 192, 202, 255, 255 |
ToneCurveName | Strong Contrast |
URL_List | |
Version | 4.0 |
Vibrance | +33 |
VignetteAmount | 0 |
WhiteBalance (1) | Custom |
WhiteBalance | Manual |