Felt | Verdi |
AlreadyApplied | True |
Aperture | 11.0 |
ApertureValue | 11.0 |
Artist | Venche Jensen |
BitsPerSample | 8 |
BlueHue | 0 |
BlueSaturation | 0 |
Brightness | +13 |
By-line | Venche Jensen |
CameraProfile | Camera Landscape |
CFAPattern | [Red,Green][Green,Blue] |
ChromaticAberrationB | 0 |
ChromaticAberrationR | 0 |
CircleOfConfusion | 0.020 mm |
Clarity | +50 |
ColorComponents | 3 |
ColorMode | RGB |
ColorNoiseReduction | 25 |
ColorSpace | sRGB |
ColorTemperature | 5500 |
Contrast (2) | +50 |
Contrast | Normal |
ConvertToGrayscale | False |
Copyright | Venche Jensen©2009 |
CopyrightNotice | Venche Jensen©2009 |
CreateDate (1) | 2009:07:31 16:59:15.25+02:00 |
CreateDate | 2009:07:31 16:59:15 |
Creator | Venche Jensen |
CreatorTool | Ver.1.10 |
CropAngle | -0.69306 |
CropBottom | 0.931099 |
CropLeft | 0.005871 |
CropRight | 0.842552 |
CropTop | 0.126544 |
CustomRendered | Normal |
DateTimeDigitized | 2009:07:31 16:59:15.25+02:00 |
DateTimeOriginal (1) | 2009:07:31 16:59:15.25+02:00 |
DateTimeOriginal | 2009:07:31 16:59:15 |
Defringe | 0 |
DigitalZoomRatio | 1 |
ExifImageHeight | 748 |
ExifImageWidth | 1140 |
Exposure | +0.55 |
ExposureCompensation | -1/2 |
ExposureMode | Auto |
ExposureProgram | Aperture-priority AE |
ExposureTime | 1/1000 |
FillLight | 45 |
Flash | No Flash |
FlashFired | False |
FlashFunction | False |
FlashMode | Unknown |
FlashRedEyeMode | False |
FlashReturn | No return detection |
FNumber | 11.0 |
FocalLength | 55.0 mm |
FocalLength35efl | 55.0 mm (35 mm equivalent: 82.0 mm) |
FocalLengthIn35mmFormat | 82 mm |
Format | image/jpeg |
FOV | 24.8 deg |
GainControl | None |
GreenHue | 0 |
GreenSaturation | 0 |
HasCrop | True |
HasSettings | True |
HighlightRecovery | 0 |
HueAdjustmentAqua | 0 |
HueAdjustmentBlue | 0 |
HueAdjustmentGreen | 0 |
HueAdjustmentMagenta | 0 |
HueAdjustmentOrange | 0 |
HueAdjustmentPurple | 0 |
HueAdjustmentRed | 0 |
HueAdjustmentYellow | 0 |
HyperfocalDistance | 13.65 m |
ICCProfileName | sRGB IEC61966-2.1 |
ImageHeight (1) | 2334 |
ImageHeight | 748 |
ImageNumber | 14761 |
ImageSize | 1140x748 |
ImageWidth (1) | 3559 |
ImageWidth | 1140 |
ISO | 200 |
Lens | 17.0-55.0 mm f/2.8 |
LensInfo | 17-55mm f/2.8 |
LightSource | Unknown |
LightValue | 15.9 |
LuminanceAdjustmentAqua | 0 |
LuminanceAdjustmentBlue | 0 |
LuminanceAdjustmentGreen | 0 |
LuminanceAdjustmentMagenta | 0 |
LuminanceAdjustmentOrange | 0 |
LuminanceAdjustmentPurple | 0 |
LuminanceAdjustmentRed | 0 |
LuminanceAdjustmentYellow | 0 |
LuminanceSmoothing | 0 |
Make | NIKON CORPORATION |
MaxApertureValue | 2.8 |
Megapixels | 0.853 |
MeteringMode | Multi-segment |
Model | NIKON D300 |
ModifyDate (1) | 2009:08:01 00:41:41+02:00 |
ModifyDate | 2009:08:01 00:41:41 |
Orientation | Horizontal (normal) |
ParametricDarks | 0 |
ParametricHighlights | 0 |
ParametricHighlightSplit | 75 |
ParametricLights | 0 |
ParametricMidtoneSplit | 50 |
ParametricShadows | 0 |
ParametricShadowSplit | 25 |
PostCropVignetteAmount | 0 |
ProfileDescription | sRGB IEC61966-2.1 |
Rating | 4 |
RawFileName | _2VJ4402.NEF |
RedHue | 0 |
RedSaturation | 0 |
Rights | Venche Jensen©2009 |
Saturation (2) | 0 |
Saturation | High |
SaturationAdjustmentAqua | 0 |
SaturationAdjustmentBlue | 0 |
SaturationAdjustmentGreen | 0 |
SaturationAdjustmentMagenta | 0 |
SaturationAdjustmentOrange | 0 |
SaturationAdjustmentPurple | 0 |
SaturationAdjustmentRed | 0 |
SaturationAdjustmentYellow | 0 |
ScaleFactor35efl | 1.5 |
SceneCaptureType | Standard |
SceneType | Directly photographed |
SensingMethod | One-chip color area |
SerialNumber | 4006116 |
Shadows | 9 |
ShadowTint | 0 |
SharpenDetail | 25 |
SharpenEdgeMasking | 0 |
SharpenRadius | +1.0 |
Sharpness (2) | 25 |
Sharpness | Normal |
ShutterSpeed | 1/1000 |
ShutterSpeedValue | 1/1000 |
Software | Adobe Photoshop CS4 Macintosh |
SplitToningBalance | 0 |
SplitToningHighlightHue | 0 |
SplitToningHighlightSaturation | 0 |
SplitToningShadowHue | 0 |
SplitToningShadowSaturation | 0 |
SubjectDistanceRange | Unknown |
Tint | +8 |
ToneCurve | 0, 0, 32, 22, 64, 56, 128, 128, 192, 196, 255, 255 |
ToneCurveName | Medium Contrast |
URL_List | |
Version | 5.3 |
Vibrance | 0 |
VignetteAmount | 0 |
WhiteBalance (2) | As Shot |
WhiteBalance | Auto |