Felt | Verdi |
AlreadyApplied | True |
Aperture | 8.0 |
ApertureValue | 8.0 |
BitsPerSample | 8 |
BlueHue | 0 |
BlueSaturation | 0 |
Brightness | +50 |
CameraProfile | Adobe Standard |
CFAPattern | [Red,Green][Green,Blue] |
ChromaticAberrationB | 0 |
ChromaticAberrationR | 0 |
CircleOfConfusion | 0.030 mm |
Clarity | +31 |
ColorComponents | 1 |
ColorNoiseReduction | 25 |
ColorTemperature | 6050 |
Contrast (2) | +25 |
Contrast | Normal |
ConvertToGrayscale | True |
CreateDate (1) | 2008:10:06 06:29:44-05:00 |
CreateDate | 2008:10:06 06:29:44 |
CreatorTool | Adobe Photoshop Lightroom |
CustomRendered | Normal |
DateTimeDigitized | 2008:10:06 06:29:44-05:00 |
DateTimeOriginal (1) | 2008:10:06 06:29:44-05:00 |
DateTimeOriginal | 2008:10:06 06:29:44 |
Defringe | 0 |
DigitalZoomRatio | 1 |
ExifImageHeight | 1065 |
ExifImageWidth | 1600 |
Exposure | +0.50 |
ExposureCompensation | -1/3 |
ExposureMode | Auto |
ExposureProgram | Aperture-priority AE |
ExposureTime | 1/30 |
FillLight | 5 |
Flash | No Flash |
FlashFired | False |
FlashFunction | False |
FlashMode | Unknown |
FlashRedEyeMode | False |
FlashReturn | No return detection |
FNumber | 8.0 |
FocalLength | 155.0 mm |
FocalLength35efl | 155.0 mm (35 mm equivalent: 155.0 mm) |
FocalLengthIn35mmFormat | 155 mm |
FOV | 13.2 deg |
GainControl | None |
GrayMixerAqua | -21 |
GrayMixerBlue | +22 |
GrayMixerGreen | -36 |
GrayMixerMagenta | +33 |
GrayMixerOrange | +13 |
GrayMixerPurple | +47 |
GrayMixerRed | +48 |
GrayMixerYellow | -15 |
GreenHue | 0 |
GreenSaturation | 0 |
HasCrop | False |
HasSettings | True |
HighlightRecovery | 11 |
HyperfocalDistance | 99.95 m |
ImageHeight | 1065 |
ImageNumber | 3404 |
ImageSize | 1600x1065 |
ImageWidth | 1600 |
ISO | 200 |
Keywords | Activities, Biking Dutchman, Chimborazo, Locations, South America, biking, ecuador, travel |
Lens | 70.0-300.0 mm f/4.5-5.6 |
LensInfo | 70-300mm f/4.5-5.6 |
LightSource | Unknown |
LightValue | 9.9 |
LuminanceSmoothing | 0 |
Make | NIKON CORPORATION |
MaxApertureValue | 4.8 |
Megapixels | 1.7 |
MeteringMode | Multi-segment |
Model | NIKON D700 |
ModifyDate (1) | 2009:04:26 20:59:13+02:00 |
ModifyDate | 2009:04:26 20:59:13 |
ParametricDarks | -31 |
ParametricHighlights | -83 |
ParametricHighlightSplit | 90 |
ParametricLights | +6 |
ParametricMidtoneSplit | 68 |
ParametricShadows | +30 |
ParametricShadowSplit | 25 |
PostCropVignetteAmount | 0 |
ProfileDescription | sRGB IEC61966-2.1 |
Rating | 5 |
RedHue | 0 |
RedSaturation | 0 |
Saturation | Normal |
ScaleFactor35efl | 1.0 |
SceneCaptureType | Standard |
SceneType | Directly photographed |
SensingMethod | One-chip color area |
SerialNumber | 2009102 |
Shadows | 9 |
ShadowTint | 0 |
SharpenDetail | 25 |
SharpenEdgeMasking | 0 |
SharpenRadius | +1.0 |
Sharpness (2) | 42 |
Sharpness | Normal |
ShutterSpeed | 1/30 |
ShutterSpeedValue | 1/30 |
Software | Ver.1.00 |
SplitToningBalance | 0 |
SplitToningHighlightHue | 0 |
SplitToningHighlightSaturation | 0 |
SplitToningShadowHue | 0 |
SplitToningShadowSaturation | 0 |
Subject | Activities, Biking Dutchman, Chimborazo, Locations, South America, biking, ecuador, travel |
SubjectDistanceRange | Unknown |
Tint | 0 |
ToneCurve | 0, 0, 32, 22, 64, 56, 128, 128, 192, 196, 255, 255 |
ToneCurveName | Medium Contrast |
Version | 5.3 |
VignetteAmount | 0 |
WhiteBalance (2) | As Shot |
WhiteBalance | Auto |