Felt | Verdi |
AddOriginalDecisionData | Off |
AEBBracketValue | -1 |
AFAreaHeights | 153 153 153 105 199 105 153 153 153 |
AFAreaMode | Auto |
AFAreaWidths | 115 115 115 162 200 162 115 115 115 |
AFAreaXPositions | -1127 -674 -674 0 0 0 674 674 1127 |
AFAreaYPositions | 0 321 -321 603 0 -603 321 -321 0 |
AFAssistBeam | Emits |
AFDuringLiveView | Disable |
AFImageHeight | 2848 |
AFImageWidth | 4272 |
AFPointsInFocus | 0,3,4,7 |
AFPointsSelected | 0,1,2,3,4,5,6,7,8 |
AlreadyApplied | False |
Aperture | 13.0 |
ApertureValue (1) | 13.0 |
ApertureValue | 12.9 |
AutoExposureBracketing | Off |
AutoISO | 100 |
AutoLightingOptimizer | Enable |
AverageBlackLevel | 1024 1024 1024 1024 |
BaseISO | 100 |
BitsPerSample | 8 |
BlackMaskBottomBorder | 0 |
BlackMaskLeftBorder | 0 |
BlackMaskRightBorder | 0 |
BlackMaskTopBorder | 0 |
BlueBalance | 1.532381 |
BlueHue | 0 |
BlueSaturation | 0 |
BracketMode | AEB |
BracketShotNumber | 0 |
BracketValue | -32 |
Brightness | 0 |
BulbDuration | 0 |
By-line | Knut Inge Ertesvaag |
CameraOrientation | Horizontal (normal) |
CameraProfile | Embedded |
CameraTemperature | 20 C |
CameraType | EOS High-end |
CanonExposureMode | Program AE |
CanonFirmwareVersion | Firmware Version 1.0.4 |
CanonFlashMode | Off |
CanonImageHeight | 2848 |
CanonImageSize | Large |
CanonImageType | Canon EOS 450D |
CanonImageWidth | 4272 |
CanonModelID | EOS Digital Rebel XSi / 450D / Kiss X2 |
ChromaticAberrationB | 0 |
ChromaticAberrationR | 0 |
CircleOfConfusion | 0.019 mm |
Clarity | 0 |
ColorComponents | 3 |
ColorDataVersion | 5 (450D/1000D) |
ColorNoiseReduction | 0 |
ColorSpace | sRGB |
ColorTempAsShot | 4793 |
ColorTempAuto | 4793 |
ColorTempCloudy | 6000 |
ColorTempDaylight | 5200 |
ColorTemperature | 5200 |
ColorTempFlash | 6298 |
ColorTempFluorescent | 3776 |
ColorTempKelvin | 5200 |
ColorTempMeasured | 3697 |
ColorTempShade | 7000 |
ColorTempTungsten | 3200 |
ColorTone | Normal |
ColorToneFaithful | 0 |
ColorToneLandscape | 0 |
ColorToneNeutral | 0 |
ColorTonePortrait | 0 |
ColorToneStandard | 0 |
ColorToneUserDef1 | 0 |
ColorToneUserDef2 | 0 |
ColorToneUserDef3 | 0 |
ContinuousDrive | Continuous |
Contrast (1) | +24 |
Contrast | Normal |
ContrastFaithful | 0 |
ContrastLandscape | 0 |
ContrastMonochrome | 0 |
ContrastNeutral | 0 |
ContrastPortrait | 0 |
ContrastStandard | 0 |
ContrastUserDef1 | 0 |
ContrastUserDef2 | 0 |
ContrastUserDef3 | 0 |
ControlMode | Camera Local Control |
ConvertToGrayscale | False |
CreateDate (1) | 2008:11:16 15:06:18.32+01:00 |
CreateDate | 2008:11:16 15:06:18 |
Creator | Knut Inge Ertesvaag |
CropBottomMargin | 0 |
CropLeftMargin | 0 |
CropRightMargin | 0 |
CropTopMargin | 0 |
CustomPictureStyleFileName | |
CustomRendered | Normal |
DateTimeDigitized | 2008:11:16 15:06:18.32+01:00 |
DateTimeOriginal (1) | 2008:11:16 15:06:18.32+01:00 |
DateTimeOriginal | 2008:11:16 15:06:18 |
Defringe | 0 |
DigitalGain | 0 |
DigitalZoom | None |
DOF | inf (10.64 m - inf) |
DriveMode | Continuous Shooting |
EasyMode | Manual |
ExifImageHeight | 2848 |
ExifImageWidth | 4272 |
Exposure | 0.00 |
ExposureCompensation (2) | -2 |
ExposureCompensation | -1 |
ExposureLevelIncrements | 1/3 Stop |
ExposureMode | Auto bracket |
ExposureProgram | Program AE |
ExposureTime (1) | 1/645 |
ExposureTime (2) | 1/664 |
ExposureTime | 1/640 |
FileIndex | 2041 |
FileNumber | 100-2041 |
FillLight | 56 |
FilterEffectMonochrome | None |
FilterEffectUserDef1 | None |
FilterEffectUserDef2 | None |
FilterEffectUserDef3 | None |
Firmware | 1.0.4 |
FirmwareVersion | 1.0.4 |
Flash | Off, Did not fire |
FlashActivity | 0 |
FlashBits | (none) |
FlashCompensation | 0 |
FlashExposureComp | 0 |
FlashFired | False |
FlashFunction | False |
FlashGuideNumber | 0 |
FlashMeteringMode | Off |
FlashMode | Off |
FlashRedEyeMode | False |
FlashReturn | No return detection |
FlashSyncSpeedAv | Auto |
FNumber (2) | 13 |
FNumber | 13.0 |
FocalLength (2) | 55 mm |
FocalLength | 55.0 mm |
FocalLength35efl | 55.0 mm (35 mm equivalent: 88.8 mm) |
FocalUnits | 1/mm |
FocusDistanceLower | 41.31 m |
FocusDistanceUpper | 100.3 m |
FocusMode | AI Focus AF |
FocusRange | Not Known |
FOV | 22.9 deg |
GreenHue | 0 |
GreenSaturation | 0 |
HasCrop | False |
HasSettings | True |
HighISONoiseReduction | Off |
HighlightRecovery | 11 |
HighlightTonePriority | Disable |
HueAdjustmentAqua | 0 |
HueAdjustmentBlue | 0 |
HueAdjustmentGreen | 0 |
HueAdjustmentMagenta | 0 |
HueAdjustmentOrange | 0 |
HueAdjustmentPurple | 0 |
HueAdjustmentRed | 0 |
HueAdjustmentYellow | 0 |
HyperfocalDistance | 12.51 m |
ImageHeight | 2848 |
ImageNumber | 0 |
ImageSize | 4272x2848 |
ImageWidth | 4272 |
IncrementalTemperature | +9 |
IncrementalTint | +11 |
InternalSerialNumber | K0755471 |
ISO | 100 |
LCDDisplayAtPowerOn | Display |
Lens (1) | EF-S55-250mm f/4-5.6 IS |
Lens | 55.0 - 250.0 mm |
Lens35efl | 55.0 - 250.0 mm (35 mm equivalent: 88.8 - 403.8 mm) |
LensID | Canon EF-S 55-250mm f/4-5.6 IS |
LensInfo | 55-250mm f/? |
LensModel | EF-S55-250mm f/4-5.6 IS |
LensType | Canon EF-S 55-250mm f/4-5.6 IS |
LightValue | 16.7 |
LinearityUpperMargin | 10000 |
LiveViewShooting | Off |
LongExposureNoiseReduction | Off |
LongExposureNoiseReduction2 | Off |
LuminanceAdjustmentAqua | 0 |
LuminanceAdjustmentBlue | 0 |
LuminanceAdjustmentGreen | 0 |
LuminanceAdjustmentMagenta | 0 |
LuminanceAdjustmentOrange | 0 |
LuminanceAdjustmentPurple | 0 |
LuminanceAdjustmentRed | 0 |
LuminanceAdjustmentYellow | 0 |
LuminanceSmoothing | 0 |
MacroMode | Normal |
Make | Canon |
ManualFlashOutput | n/a |
MaxAperture | 4 |
MaxApertureValue | 4.0 |
MaxFocalLength | 250 mm |
MeasuredEV | 14.75 |
MeasuredEV2 | 14.25 |
MeasuredRGGB | 675 1024 1024 444 |
Megapixels | 12.2 |
MeteringMode | Spot |
MinAperture | 23 |
MinFocalLength | 55 mm |
MirrorLockup | Disable |
Model | Canon EOS 450D |
ModifyDate (1) | 2008:11:16 15:06:18.32+01:00 |
ModifyDate | 2008:11:16 15:06:18 |
NDFilter | n/a |
NumAFPoints | 9 |
OpticalZoomCode | n/a |
Orientation | Horizontal (normal) |
OriginalDecisionDataOffset | 0 |
OwnerName | Knut Inge Ertesvaag |
ParametricDarks | 0 |
ParametricHighlights | 0 |
ParametricHighlightSplit | 75 |
ParametricLights | 0 |
ParametricMidtoneSplit | 50 |
ParametricShadows | 0 |
ParametricShadowSplit | 25 |
PerChannelBlackLevel | 1024 1024 1024 1024 |
PictureStyle | Standard |
PictureStylePC | None; None; None |
PictureStyleUserDef | Standard; Standard; Standard |
PostCropVignetteAmount | 0 |
Quality | Fine |
Rating | 0 |
RawFileName | Yttergryta 2 .JPG |
RawJpgSize | Large |
RawMeasuredRGGB | 89349 141776 139438 62179 |
RecordMode | JPEG |
RedBalance | 2.19619 |
RedHue | 0 |
RedSaturation | 0 |
Saturation (1) | 0 |
Saturation | Normal |
SaturationAdjustmentAqua | 0 |
SaturationAdjustmentBlue | 0 |
SaturationAdjustmentGreen | 0 |
SaturationAdjustmentMagenta | 0 |
SaturationAdjustmentOrange | 0 |
SaturationAdjustmentPurple | 0 |
SaturationAdjustmentRed | 0 |
SaturationAdjustmentYellow | 0 |
SaturationFaithful | 0 |
SaturationLandscape | 0 |
SaturationNeutral | 0 |
SaturationPortrait | 0 |
SaturationStandard | 0 |
SaturationUserDef1 | 0 |
SaturationUserDef2 | 0 |
SaturationUserDef3 | 0 |
ScaleFactor35efl | 1.6 |
SceneCaptureType | Standard |
SelfTimer | Off |
SensorBlueLevel | 0 |
SensorBottomBorder | 2870 |
SensorHeight | 2876 |
SensorLeftBorder | 32 |
SensorRedLevel | 0 |
SensorRightBorder | 4303 |
SensorTopBorder | 23 |
SensorWidth | 4312 |
SequenceNumber | 0 |
SerialNumber (1) | 630269409 |
SerialNumber | 0630269409 |
SerialNumberFormat | Format 2 |
SetButtonWhenShooting | Normal (disabled) |
Shadows | 0 |
ShadowTint | 0 |
SharpenDetail | 25 |
SharpenEdgeMasking | 0 |
SharpenRadius | +1.0 |
Sharpness (1) | 0 |
Sharpness | 3 |
SharpnessFaithful | 0 |
SharpnessFrequency | n/a |
SharpnessLandscape | 4 |
SharpnessMonochrome | 3 |
SharpnessNeutral | 0 |
SharpnessPortrait | 2 |
SharpnessStandard | 3 |
SharpnessUserDef1 | 3 |
SharpnessUserDef2 | 3 |
SharpnessUserDef3 | 3 |
ShootingMode | Program AE |
ShutterButtonAFOnButton | Metering + AF start |
ShutterSpeed | 1/640 |
ShutterSpeedValue (1) | 1/640 |
ShutterSpeedValue | 1/664 |
SlowShutter | None |
SpecularWhiteLevel | 14355 |
SplitToningBalance | 0 |
SplitToningHighlightHue | 0 |
SplitToningHighlightSaturation | 0 |
SplitToningShadowHue | 0 |
SplitToningShadowSaturation | 0 |
TargetAperture | 13 |
TargetExposureTime | 1/645 |
ToneCurve (1) | Standard |
ToneCurve | 0, 0, 255, 255 |
ToneCurveName | Linear |
ToningEffectMonochrome | None |
ToningEffectUserDef1 | None |
ToningEffectUserDef2 | None |
ToningEffectUserDef3 | None |
UserComment | |
UserDef1PictureStyle | Standard |
UserDef2PictureStyle | Standard |
UserDef3PictureStyle | Standard |
ValidAFPoints | 9 |
Version | 4.6 |
Vibrance | +36 |
VignetteAmount | 0 |
VRDOffset | 0 |
WB_RGGBLevels | 2306 1050 1050 1609 |
WB_RGGBLevelsAsShot | 2306 1050 1050 1609 |
WB_RGGBLevelsAuto | 2306 1050 1050 1609 |
WB_RGGBLevelsCloudy | 2456 1024 1024 1317 |
WB_RGGBLevelsDaylight | 2280 1024 1024 1442 |
WB_RGGBLevelsFlash | 2521 1024 1024 1290 |
WB_RGGBLevelsFluorescent | 2025 1040 1040 1996 |
WB_RGGBLevelsKelvin | 2280 1024 1024 1442 |
WB_RGGBLevelsMeasured | 1917 1049 1049 2012 |
WB_RGGBLevelsShade | 2628 1024 1024 1214 |
WB_RGGBLevelsTungsten | 1745 1110 1110 2320 |
WBBracketMode | Off |
WBBracketValueAB | 0 |
WBBracketValueGM | 0 |
WBShiftAB | 0 |
WBShiftGM | 0 |
WhiteBalance (4) | Custom |
WhiteBalance | Auto |
WhiteBalanceBlue | 0 |
WhiteBalanceRed | 0 |
ZoomSourceWidth | 0 |
ZoomTargetWidth | 0 |