Felt | Verdi |
AlreadyApplied | True |
Aperture | 5.6 |
ApertureValue | 5.6 |
BitsPerSample | 8 |
BlueHue | 0 |
BlueSaturation | 0 |
Brightness | +90 |
CameraProfile | ACR 2.4 |
ChromaticAberrationB | 0 |
ChromaticAberrationR | 0 |
Clarity | 0 |
ColorComponents | 3 |
ColorTemperature | 3650 |
Contrast | -13 |
ConvertToGrayscale | True |
Copyright | Aleksander M. Stensby |
CopyrightNotice | Aleksander M. Stensby |
CreateDate | 2005:10:19 23:19:38 |
CreatorTool | Adobe Photoshop Lightroom |
CropAngle | 0 |
CropBottom | 1 |
CropHeight | 524 |
CropLeft | 0.141618 |
CropRight | 1 |
CropTop | 0.036969 |
CropUnit | pixels |
CropWidth | 700 |
DateTimeDigitized | 2005:10:19 23:19:38+02:00 |
DateTimeOriginal (1) | 2005:10:19 23:19:38+02:00 |
DateTimeOriginal | 2005:10:19 23:19:38 |
Defringe | 0 |
Exposure | +0.42 |
ExposureCompensation | 0 |
ExposureProgram | Manual |
ExposureTime | 1/40 |
FillLight | 0 |
Firmware | 1.1.1 |
Flash | No Flash |
FlashFired | False |
FNumber | 5.6 |
FocalLength | 55.0 mm |
FocalLength35efl | 55.0 mm |
GrayMixerAqua | -21 |
GrayMixerBlue | +5 |
GrayMixerGreen | -22 |
GrayMixerMagenta | +12 |
GrayMixerOrange | -7 |
GrayMixerPurple | +16 |
GrayMixerRed | +4 |
GrayMixerYellow | -13 |
GreenHue | 0 |
GreenSaturation | 0 |
HasCrop | True |
HasSettings | True |
HighlightRecovery | 75 |
ImageHeight | 700 |
ImageSize | 524x700 |
ImageWidth | 524 |
ISO | 800 |
Lens | 18.0-55.0 mm |
LensInfo | 18-55mm f/? |
LightValue | 7.3 |
LuminanceSmoothing | 0 |
Make | Canon |
MaxApertureValue | 5.6 |
Megapixels | 0.367 |
MeteringMode | Center-weighted average |
Model | Canon EOS 300D DIGITAL |
ModifyDate (1) | 2008:02:12 19:54:30+01:00 |
ModifyDate | 2008:02:12 19:54:30 |
ParametricDarks | -8 |
ParametricHighlights | +22 |
ParametricHighlightSplit | 75 |
ParametricLights | +8 |
ParametricMidtoneSplit | 50 |
ParametricShadows | -20 |
ParametricShadowSplit | 25 |
ProfileDescription | sRGB IEC61966-2.1 |
RedHue | 0 |
RedSaturation | 0 |
Rights | Aleksander M. Stensby |
Shadows | 5 |
ShadowTint | 0 |
SharpenDetail | 25 |
SharpenEdgeMasking | 0 |
SharpenRadius | +1.0 |
Sharpness | 0 |
ShutterSpeed | 1/40 |
ShutterSpeedValue | 1/40 |
SplitToningBalance | 0 |
SplitToningHighlightHue | 50 |
SplitToningHighlightSaturation | 100 |
SplitToningShadowHue | 30 |
SplitToningShadowSaturation | 28 |
Tint | 0 |
ToneCurve | 0, 0, 255, 255 |
ToneCurveName | Linear |
Version | 1.0 |
VignetteAmount | 0 |
WhiteBalance | As Shot |