Felt | Verdi |
AlreadyApplied | True |
Aperture | 9.0 |
ApertureValue | 9.0 |
Artist | Arild Thingvoll |
AutoLateralCA | 1 |
AutoWhiteVersion | 134348800 |
BitsPerSample | 8 |
Blacks2012 | -21 |
BlueHue | 0 |
BlueSaturation | 0 |
BrightnessValue | 10.2984375 |
By-line | Arild Thingvoll |
CameraProfile | Camera Deep |
CircleOfConfusion | 0.011 mm |
Clarity2012 | +29 |
ColorComponents | 3 |
ColorNoiseReduction | 25 |
ColorNoiseReductionDetail | 50 |
ColorNoiseReductionSmoothness | 50 |
ColorSpace | sRGB |
ColorTemperature | 5200 |
ColorTransform | YCbCr |
Contrast | Normal |
Contrast2012 | +21 |
ConvertToGrayscale | False |
Copyright | © Arild Thingvoll |
CopyrightNotice | © Arild Thingvoll |
CreateDate | 2016:05:17 13:39:50 |
Creator | Arild Thingvoll |
CreatorAddress | Ligtvor |
CreatorCity | Vik i Sogn |
CreatorCountry | Norway |
CreatorPostalCode | 6893 |
CreatorRegion | Sogn og Fjordane |
CreatorTool | Adobe Photoshop Lightroom 6.10.1 (Windows) |
CreatorWorkEmail | athingvoll@gmail.com |
CreatorWorkTelephone | 91584513 |
CropAngle | 0 |
CropBottom | 0.991137 |
CropConstrainToWarp | 0 |
CropLeft | 0.122047 |
CropRight | 0.917323 |
CropTop | 0.035451 |
CustomRendered | Normal |
DateCreated (1) | 2016:05:17 |
DateCreated | 2016:05:17 13:39:50 |
DateTimeOriginal | 2016:05:17 13:39:50 |
DefringeGreenAmount | 0 |
DefringeGreenHueHi | 60 |
DefringeGreenHueLo | 40 |
DefringePurpleAmount | 0 |
DefringePurpleHueHi | 70 |
DefringePurpleHueLo | 30 |
Dehaze | 0 |
DigitalZoomRatio | 1 |
DistortionCorrectionAlreadyApplied | True |
Exposure2012 | 0.00 |
ExposureCompensation | 0 |
ExposureMode | Auto |
ExposureProgram | Shutter speed priority AE |
ExposureTime | 1/200 |
Flash | Off, Did not fire |
FNumber | 9.0 |
FocalLength | 8.8 mm |
FocalLength35efl | 8.8 mm (35 mm equivalent: 24.0 mm) |
FocalLengthIn35mmFormat | 24 mm |
Format | image/jpeg |
FOV | 73.7 deg |
GrainAmount | 0 |
GreenHue | 0 |
GreenSaturation | 0 |
HasCrop | True |
HasSettings | True |
Highlights2012 | -98 |
HueAdjustmentAqua | 0 |
HueAdjustmentBlue | 0 |
HueAdjustmentGreen | 0 |
HueAdjustmentMagenta | 0 |
HueAdjustmentOrange | 0 |
HueAdjustmentPurple | 0 |
HueAdjustmentRed | 0 |
HueAdjustmentYellow | 0 |
HyperfocalDistance | 0.78 m |
ImageHeight | 750 |
ImageSize | 936x750 |
ImageWidth | 936 |
ISO | 100 |
Keywords | Sagene, kyrkje, landskap |
LateralChromaticAberrationCorrectionAlreadyApplied | True |
Lens | 24-70mm F1.8-2.8 |
LensInfo | 8.8-25.7mm f/1.8-2.8 |
LensManualDistortionAmount | 0 |
LensModel | 24-70mm F1.8-2.8 |
LensProfileEnable | 1 |
LensProfileSetup | LensDefaults |
LightSource | Unknown |
LightValue | 14.0 |
LuminanceAdjustmentAqua | 0 |
LuminanceAdjustmentBlue | 0 |
LuminanceAdjustmentGreen | 0 |
LuminanceAdjustmentMagenta | 0 |
LuminanceAdjustmentOrange | 0 |
LuminanceAdjustmentPurple | 0 |
LuminanceAdjustmentRed | 0 |
LuminanceAdjustmentYellow | 0 |
LuminanceNoiseReductionContrast | 0 |
LuminanceNoiseReductionDetail | 50 |
LuminanceSmoothing | 11 |
Make | SONY |
MaxApertureValue | 1.8 |
Megapixels | 0.702 |
MeteringMode | Multi-segment |
Model | DSC-RX100M3 |
ModifyDate (1) | 2017:05:31 22:24:23+02:00 |
ModifyDate | 2017:05:31 22:24:23 |
PaintCorrectionActive | true |
PaintCorrectionAmount | 1.000000 |
PaintCorrectionBrightness | 0.000000 |
PaintCorrectionClarity2012 (2) | 0.000000 |
PaintCorrectionClarity2012 | 0.131220 |
PaintCorrectionContrast2012 (1) | 0.103450 |
PaintCorrectionContrast2012 | 0.000000 |
PaintCorrectionDefringe | 0.000000 |
PaintCorrectionExposure2012 | 0.000000 |
PaintCorrectionHighlights2012 (2) | -0.080460 |
PaintCorrectionHighlights2012 | 0.000000 |
PaintCorrectionHue | 240.000000 |
PaintCorrectionLocalBlacks2012 | 0.000000 |
PaintCorrectionLocalDehaze (2) | 0.104070 |
PaintCorrectionLocalDehaze (3) | -0.004520 |
PaintCorrectionLocalDehaze | 0.000000 |
PaintCorrectionLocalWhites2012 (2) | 0.131220 |
PaintCorrectionLocalWhites2012 (3) | 0.113120 |
PaintCorrectionLocalWhites2012 | 0.000000 |
PaintCorrectionLuminanceNoise | 0.000000 |
PaintCorrectionMaskCenterWeight (5) | 0.028607 |
PaintCorrectionMaskCenterWeight | 1.000000 |
PaintCorrectionMaskFlow (5) | 1.000000 |
PaintCorrectionMaskFlow | 0.871000 |
PaintCorrectionMaskRadius (1) | 0.127886 |
PaintCorrectionMaskRadius (10) | 0.020818 |
PaintCorrectionMaskRadius (11) | 0.020554 |
PaintCorrectionMaskRadius (12) | 0.018566 |
PaintCorrectionMaskRadius (13) | 0.013376 |
PaintCorrectionMaskRadius (14) | 0.020071 |
PaintCorrectionMaskRadius (15) | 0.019797 |
PaintCorrectionMaskRadius (16) | 0.020107 |
PaintCorrectionMaskRadius (17) | 0.020773 |
PaintCorrectionMaskRadius (18) | 0.020632 |
PaintCorrectionMaskRadius (19) | 0.020657 |
PaintCorrectionMaskRadius (2) | 0.103416 |
PaintCorrectionMaskRadius (20) | 0.019428 |
PaintCorrectionMaskRadius (21) | 0.019456 |
PaintCorrectionMaskRadius (22) | 0.019771 |
PaintCorrectionMaskRadius (23) | 0.021538 |
PaintCorrectionMaskRadius (24) | 0.021496 |
PaintCorrectionMaskRadius (25) | 0.037282 |
PaintCorrectionMaskRadius (26) | 0.035941 |
PaintCorrectionMaskRadius (27) | 0.035086 |
PaintCorrectionMaskRadius (28) | 0.036729 |
PaintCorrectionMaskRadius (29) | 0.036047 |
PaintCorrectionMaskRadius (3) | 0.062518 |
PaintCorrectionMaskRadius (30) | 0.035663 |
PaintCorrectionMaskRadius (31) | 0.034056 |
PaintCorrectionMaskRadius (32) | 0.034006 |
PaintCorrectionMaskRadius (33) | 0.034001 |
PaintCorrectionMaskRadius (34) | 0.034240 |
PaintCorrectionMaskRadius (35) | 0.034265 |
PaintCorrectionMaskRadius (36) | 0.038162 |
PaintCorrectionMaskRadius (37) | 0.039724 |
PaintCorrectionMaskRadius (38) | 0.039566 |
PaintCorrectionMaskRadius (39) | 0.039624 |
PaintCorrectionMaskRadius (4) | 0.081817 |
PaintCorrectionMaskRadius (40) | 0.022908 |
PaintCorrectionMaskRadius (41) | 0.023215 |
PaintCorrectionMaskRadius (42) | 0.023175 |
PaintCorrectionMaskRadius (5) | 0.065917 |
PaintCorrectionMaskRadius (6) | 0.025392 |
PaintCorrectionMaskRadius (7) | 0.024525 |
PaintCorrectionMaskRadius (8) | 0.025264 |
PaintCorrectionMaskRadius (9) | 0.025986 |
PaintCorrectionMaskRadius | 0.022959 |
PaintCorrectionMaskValue (3) | 1.000000 |
PaintCorrectionMaskValue | 0.592000 |
PaintCorrectionMaskWhat | Mask/Paint |
PaintCorrectionMoire | 0.000000 |
PaintCorrectionSaturation | 0.000000 |
PaintCorrectionShadows2012 (3) | -0.348420 |
PaintCorrectionShadows2012 | 0.000000 |
PaintCorrectionSharpness | 0.000000 |
PaintCorrectionTemperature | 0.000000 |
PaintCorrectionTint | 0.000000 |
PaintCorrectionWhat | Correction |
ParametricDarks | -22 |
ParametricHighlights | -32 |
ParametricHighlightSplit | 75 |
ParametricLights | +7 |
ParametricMidtoneSplit | 50 |
ParametricShadows | +100 |
ParametricShadowSplit | 25 |
PerspectiveAspect | 0 |
PerspectiveHorizontal | 0 |
PerspectiveRotate | 0.0 |
PerspectiveScale | 100 |
PerspectiveUpright | 4 |
PerspectiveVertical | 0 |
PerspectiveX | 0.00 |
PerspectiveY | 0.00 |
PostCropVignetteAmount | -10 |
PostCropVignetteFeather | 50 |
PostCropVignetteHighlightContrast | 0 |
PostCropVignetteMidpoint | 50 |
PostCropVignetteRoundness | 0 |
PostCropVignetteStyle | 1 |
ProcessVersion | 6.7 |
ProfileDescription | sRGB IEC61966-2.1 |
RecommendedExposureIndex | 100 |
RedHue | 0 |
RedSaturation | 0 |
Rights | © Arild Thingvoll |
Saturation (1) | +38 |
Saturation | Normal |
SaturationAdjustmentAqua | 0 |
SaturationAdjustmentBlue | 0 |
SaturationAdjustmentGreen | 0 |
SaturationAdjustmentMagenta | 0 |
SaturationAdjustmentOrange | 0 |
SaturationAdjustmentPurple | 0 |
SaturationAdjustmentRed | 0 |
SaturationAdjustmentYellow | 0 |
ScaleFactor35efl | 2.7 |
SceneCaptureType | Standard |
SceneType | Directly photographed |
SensitivityType | Recommended Exposure Index |
Shadows2012 | +98 |
ShadowTint | 0 |
SharpenDetail | 25 |
SharpenEdgeMasking | 0 |
SharpenRadius | +1.0 |
Sharpness (1) | 68 |
Sharpness | Normal |
ShutterSpeed | 1/200 |
ShutterSpeedValue | 1/200 |
Software | Adobe Photoshop Lightroom 6.10.1 (Windows) |
SplitToningBalance | 0 |
SplitToningHighlightHue | 0 |
SplitToningHighlightSaturation | 0 |
SplitToningShadowHue | 0 |
SplitToningShadowSaturation | 0 |
Subject | Sagene, kyrkje, landskap |
Tint | +11 |
ToneCurve | 0, 0, 255, 255 |
ToneCurveBlue | 0, 0, 255, 255 |
ToneCurveGreen | 0, 0, 255, 255 |
ToneCurveName | Linear |
ToneCurveName2012 | Linear |
ToneCurvePV2012 | 0, 0, 255, 255 |
ToneCurvePV2012Blue | 0, 0, 255, 255 |
ToneCurvePV2012Green | 0, 0, 255, 255 |
ToneCurvePV2012Red | 0, 0, 255, 255 |
ToneCurveRed | 0, 0, 255, 255 |
ToneMapStrength | 0 |
Version | 9.10.1 |
Vibrance | +26 |
VignetteAmount | 0 |
WhiteBalance (1) | As Shot |
WhiteBalance | Auto |
Whites2012 | +26 |