Felt | Verdi |
2016-07-24T20:33:42+02:00 Filen E:\2016\inger_helen_myhre\psd\_74A0488.psd er lagret
2016-07-24T20:38:32+02:00 Filen D:\PSAutoRecover\Torild\__74A0488909F3C6EB00AF81220B2B14801B13B26.psb er lagret
2016-07-24T20:38:40+02:00 Filen E:\2016\inger_helen_myhre\psd\_74A0488.psd er lagret
2016-07-24T20:47:13+02:00 Filen E:\2016\inger_helen_myhre\psd\_74A0488.psd er lagret
2016-07-24T20:48:08+02:00 Filen D:\PSAutoRecover\Torild\__74A0488909F3C6EB00AF81220B2B14801B13B26.psb er lagret
2016-07-24T20:52:24+02:00 Filen E:\2016\inger_helen_myhre\psd\_74A0488.psd er lagret
2016-07-24T20:57:44+02:00 Filen D:\PSAutoRecover\Torild\__74A0488909F3C6EB00AF81220B2B14801B13B26.psb er lagret
2016-07-24T21:00:11+02:00 Filen E:\2016\inger_helen_myhre\psd\_74A0488.psd er lagret
2016-07-24T21:07:20+02:00 Filen D:\PSAutoRecover\Torild\__74A0488909F3C6EB00AF81220B2B14801B13B26.psb er lagret
2016-07-24T21:16:56+02:00 Filen D:\PSAutoRecover\Torild\__74A0488909F3C6EB00AF81220B2B14801B13B26.psb er lagret
2016-07-24T21:26:32+02:00 Filen D:\PSAutoRecover\Torild\__74A0488909F3C6EB00AF81220B2B14801B13B26.psb er lagret
2016-07-24T21:30:01+02:00 Filen E:\2016\inger_helen_myhre\psd\_74A0488.psd er lagret
2016-07-24T21:36:08+02:00 Filen D:\PSAutoRecover\Torild\__74A0488909F3C6EB00AF81220B2B14801B13B26.psb er lagret
2016-07-24T21:45:44+02:00 Filen D:\PSAutoRecover\Torild\__74A0488909F3C6EB00AF81220B2B14801B13B26.psb er lagret
2016-07-24T21:48:23+02:00 Filen E:\2016\inger_helen_myhre\psd\_74A0488.psd er lagret
2016-07-24T21:52:58+02:00 Filen E:\2016\inger_helen_myhre\psd\_74A0488.psd er lagret
2016-07-24T21:54:24+02:00 Filen E:\2016\inger_helen_myhre\psd\_74A0488.psd er lagret
2016-07-24T21:55:20+02:00 Filen D:\PSAutoRecover\Torild\__74A0488909F3C6EB00AF81220B2B14801B13B26.psb er lagret
2016-07-24T22:05:06+02:00 Filen D:\PSAutoRecover\Torild\__74A0488909F3C6EB00AF81220B2B14801B13B26.psb er lagret
2016-07-24T22:05:15+02:00 Filen E:\2016\inger_helen_myhre\psd\_74A0488.psd er lagret
2016-07-24T22:06:04+02:00 Filen E:\2016\inger_helen_myhre\psd\_74A0488.psd er lagret
2016-07-24T22:08:24+02:00 Filen E:\2016\inger_helen_myhre\psd\_74A0488.psd er lagret
2016-07-24T22:10:12+02:00 Filen E:\2016\inger_helen_myhre\jpg\_74A0488.jpg er lagret
AlreadyApplied | True |
Aperture | 8.0 |
ApertureValue | 8.0 |
ApproximateFocusDistance | 3.72 |
Artist | Torild Vangen |
AutoLateralCA | 0 |
AutoWhiteVersion | 134348800 |
BitsPerSample | 8 |
Blacks2012 | 0 |
BlueHue | 0 |
BlueSaturation | 0 |
By-line | Torild Vangen |
CameraProfile | Adobe Standard |
CircleOfConfusion | 0.030 mm |
Clarity2012 | 0 |
ColorComponents | 3 |
ColorNoiseReduction | 25 |
ColorNoiseReductionDetail | 50 |
ColorNoiseReductionSmoothness | 50 |
ColorSpace | Uncalibrated |
ColorTemperature | 5500 |
ColorTransform | YCbCr |
Contrast2012 | +8 |
ConvertToGrayscale | False |
Copyright | Private use only |
CopyrightFlag | True |
CopyrightNotice | Private use only |
Country | Norway |
Country-PrimaryLocationName | Norway |
CreateDate | 2016:07:24 17:14:06 |
Creator | Torild Vangen |
CreatorCity | Sokna |
CreatorCountry | Norway |
CreatorPostalCode | 3534 |
CreatorTool | Adobe Photoshop CC 2015 (Windows) |
CreatorWorkEmail | info@vangenfoto.no |
CustomRendered | Normal |
DateCreated (1) | 2016:07:24 17:14:06 |
DateCreated | 2016:07:24 |
DateTimeOriginal | 2016:07:24 17:14:06 |
DefringeGreenAmount | 0 |
DefringeGreenHueHi | 60 |
DefringeGreenHueLo | 40 |
DefringePurpleAmount | 0 |
DefringePurpleHueHi | 70 |
DefringePurpleHueLo | 30 |
Dehaze | 0 |
DOF | 5.92 m (2.40 - 8.32 m) |
ExifImageHeight | 3840 |
ExifImageWidth | 5760 |
Exposure2012 | 0.00 |
ExposureCompensation | 0 |
ExposureMode | Manual |
ExposureProgram | Manual |
ExposureTime | 1/125 |
Firmware | 1.3.3 |
Flash | Off, Did not fire |
FlashCompensation | 0 |
FNumber | 8.0 |
FocalLength | 40.0 mm |
FocalLength35efl | 40.0 mm (35 mm equivalent: 40.0 mm) |
Format | image/jpeg |
FOV | 48.5 deg |
GrainAmount | 0 |
GreenHue | 0 |
GreenSaturation | 0 |
HasCrop | False |
HasSettings | True |
Highlights2012 | 0 |
HueAdjustmentAqua | 0 |
HueAdjustmentBlue | 0 |
HueAdjustmentGreen | 0 |
HueAdjustmentMagenta | 0 |
HueAdjustmentOrange | 0 |
HueAdjustmentPurple | 0 |
HueAdjustmentRed | 0 |
HueAdjustmentYellow | 0 |
HyperfocalDistance | 6.66 m |
ImageHeight | 3840 |
ImageNumber | 0 |
ImageSize | 5760x3840 |
ImageWidth | 5760 |
ISO | 100 |
Label | Gjennomgang |
Lens | EF17-40mm f/4L USM |
LensID (1) | 231 |
LensID | Canon EF 17-40mm f/4L USM |
LensInfo | 17-40mm f/? |
LensManualDistortionAmount | 0 |
LensModel | EF17-40mm f/4L USM |
LensProfileEnable | 0 |
LensProfileSetup | LensDefaults |
LensSerialNumber | 0000000000 |
LightValue | 13.0 |
LuminanceAdjustmentAqua | 0 |
LuminanceAdjustmentBlue | 0 |
LuminanceAdjustmentGreen | 0 |
LuminanceAdjustmentMagenta | 0 |
LuminanceAdjustmentOrange | 0 |
LuminanceAdjustmentPurple | 0 |
LuminanceAdjustmentRed | 0 |
LuminanceAdjustmentYellow | 0 |
LuminanceSmoothing | 0 |
Make | Canon |
Marked | True |
MaxApertureValue | 4.0 |
Megapixels | 22.1 |
MeteringMode | Partial |
Model | Canon EOS 5D Mark III |
ModifyDate (1) | 2016:07:24 22:10:12+02:00 |
ModifyDate | 2016:07:24 22:10:12 |
Orientation | Horizontal (normal) |
ParametricDarks | 0 |
ParametricHighlights | 0 |
ParametricHighlightSplit | 75 |
ParametricLights | 0 |
ParametricMidtoneSplit | 50 |
ParametricShadows | 0 |
ParametricShadowSplit | 25 |
PerspectiveAspect | 0 |
PerspectiveHorizontal | 0 |
PerspectiveRotate | 0.0 |
PerspectiveScale | 100 |
PerspectiveUpright | 0 |
PerspectiveVertical | 0 |
PostCropVignetteAmount | 0 |
ProcessVersion | 6.7 |
ProfileDescription | Adobe RGB (1998) |
Rating | 0 |
RawFileName | _74A0488.CR2 |
RecommendedExposureIndex | 100 |
RedHue | 0 |
RedSaturation | 0 |
Rights | Private use only |
Saturation | 0 |
SaturationAdjustmentAqua | 0 |
SaturationAdjustmentBlue | 0 |
SaturationAdjustmentGreen | 0 |
SaturationAdjustmentMagenta | 0 |
SaturationAdjustmentOrange | 0 |
SaturationAdjustmentPurple | 0 |
SaturationAdjustmentRed | 0 |
SaturationAdjustmentYellow | 0 |
ScaleFactor35efl | 1.0 |
SceneCaptureType | Standard |
SensitivityType | Recommended Exposure Index |
SerialNumber | 033024002594 |
Shadows2012 | +13 |
ShadowTint | 0 |
SharpenDetail | 25 |
SharpenEdgeMasking | 0 |
SharpenRadius | +1.0 |
Sharpness | 25 |
ShutterSpeed | 1/125 |
ShutterSpeedValue | 1/125 |
Software | Adobe Photoshop CC 2015 (Windows) |
SplitToningBalance | 0 |
SplitToningHighlightHue | 0 |
SplitToningHighlightSaturation | 0 |
SplitToningShadowHue | 0 |
SplitToningShadowSaturation | 0 |
Tint | 0 |
ToneCurve | 0, 0, 32, 22, 64, 56, 128, 128, 192, 196, 255, 255 |
ToneCurveBlue | 0, 0, 255, 255 |
ToneCurveGreen | 0, 0, 255, 255 |
ToneCurveName | Medium Contrast |
ToneCurveName2012 | Linear |
ToneCurvePV2012 | 0, 0, 255, 255 |
ToneCurvePV2012Blue | 0, 0, 255, 255 |
ToneCurvePV2012Green | 0, 0, 255, 255 |
ToneCurvePV2012Red | 0, 0, 255, 255 |
ToneCurveRed | 0, 0, 255, 255 |
ToneMapStrength | 0 |
URL_List | |
UsageTerms | Private use only |
Version | 9.1.1 |
Vibrance | 0 |
VignetteAmount | 0 |
WhiteBalance (1) | Custom |
WhiteBalance | Manual |
Whites2012 | -2 |